BEGIN:VCALENDAR
VERSION:2.0
PRODID:-//Devil Dog USA Incorporated - ECPv6.15.20//NONSGML v1.0//EN
CALSCALE:GREGORIAN
METHOD:PUBLISH
X-ORIGINAL-URL:https://devildogusainc.org
X-WR-CALDESC:Events for Devil Dog USA Incorporated
REFRESH-INTERVAL;VALUE=DURATION:PT1H
X-Robots-Tag:noindex
X-PUBLISHED-TTL:PT1H
BEGIN:VTIMEZONE
TZID:America/New_York
BEGIN:DAYLIGHT
TZOFFSETFROM:-0500
TZOFFSETTO:-0400
TZNAME:EDT
DTSTART:20220313T070000
END:DAYLIGHT
BEGIN:STANDARD
TZOFFSETFROM:-0400
TZOFFSETTO:-0500
TZNAME:EST
DTSTART:20221106T060000
END:STANDARD
BEGIN:DAYLIGHT
TZOFFSETFROM:-0500
TZOFFSETTO:-0400
TZNAME:EDT
DTSTART:20230312T070000
END:DAYLIGHT
BEGIN:STANDARD
TZOFFSETFROM:-0400
TZOFFSETTO:-0500
TZNAME:EST
DTSTART:20231105T060000
END:STANDARD
BEGIN:DAYLIGHT
TZOFFSETFROM:-0500
TZOFFSETTO:-0400
TZNAME:EDT
DTSTART:20240310T070000
END:DAYLIGHT
BEGIN:STANDARD
TZOFFSETFROM:-0400
TZOFFSETTO:-0500
TZNAME:EST
DTSTART:20241103T060000
END:STANDARD
END:VTIMEZONE
BEGIN:VEVENT
DTSTART;TZID=America/New_York:20230328T200000
DTEND;TZID=America/New_York:20230328T210000
DTSTAMP:20260422T224711
CREATED:20230327T031750Z
LAST-MODIFIED:20230327T032701Z
UID:6234-1680033600-1680037200@devildogusainc.org
SUMMARY:Civic Engagement Lessons: Third Party Objective
DESCRIPTION:On Tuesday\, March 28th at 2332 Arthur Avenue\, Bronx\, NY from 8pm to 9pm\, we are gathering for a civic engagement lesson.\n\nTopics of discussion: third party objective\, open discussion\, and voter registration drive.\n\n* The venue is in a cigar lounge.\n\nFor more information or to register\, contact: Gonzalo Duran at ceo@devildogusainc.org or (516) 515 – 0240.
URL:https://devildogusainc.org/event/civic-engagement-lessons-third-party-objective/
CATEGORIES:Cigar night,Civic Engagement
ATTACH;FMTTYPE=image/jpeg:https://devildogusainc.org/wp-content/uploads/2023/03/Civic-Engagement-32823.jpg
ORGANIZER;CN="Gonzalo Duran":MAILTO:ceo@devildogusainc.org
END:VEVENT
BEGIN:VEVENT
DTSTART;TZID=America/New_York:20230314T200000
DTEND;TZID=America/New_York:20230314T210000
DTSTAMP:20260422T224711
CREATED:20230228T032918Z
LAST-MODIFIED:20230228T032918Z
UID:6173-1678824000-1678827600@devildogusainc.org
SUMMARY:Civic Engagement Lessons
DESCRIPTION:On Tuesday\, March 14th at 2332 Arthur Avenue\, Bronx\, NY from 8pm to 9pm\, we are gathering for a civic engagement lesson.\n\nTopics of discussion: fundamentals of starting a campaign\, open discussion\, and voter registration drive.\n\n* The venue is in a cigar lounge.\n\nFor more information or to register\, contact: Gonzalo Duran at ceo@devildogusainc.org or (516) 515 – 0240.
URL:https://devildogusainc.org/event/civic-engagement-lessons/
CATEGORIES:Civic Engagement
ATTACH;FMTTYPE=image/jpeg:https://devildogusainc.org/wp-content/uploads/2023/02/Civic-Lessons-31423.jpg
END:VEVENT
END:VCALENDAR